BEGIN:VCALENDAR
VERSION:2.0
PRODID:-//Oberallgäuer Kleinkunstbühne e.V. - ECPv6.15.14//NONSGML v1.0//EN
CALSCALE:GREGORIAN
METHOD:PUBLISH
X-WR-CALNAME:Oberallgäuer Kleinkunstbühne e.V.
X-ORIGINAL-URL:https://oberallgaeuer-kleinkunstbuehne.goldeneskreuz.de
X-WR-CALDESC:Veranstaltungen für Oberallgäuer Kleinkunstbühne e.V.
REFRESH-INTERVAL;VALUE=DURATION:PT1H
X-Robots-Tag:noindex
X-PUBLISHED-TTL:PT1H
BEGIN:VTIMEZONE
TZID:Europe/Berlin
BEGIN:DAYLIGHT
TZOFFSETFROM:+0100
TZOFFSETTO:+0200
TZNAME:CEST
DTSTART:20230326T010000
END:DAYLIGHT
BEGIN:STANDARD
TZOFFSETFROM:+0200
TZOFFSETTO:+0100
TZNAME:CET
DTSTART:20231029T010000
END:STANDARD
BEGIN:DAYLIGHT
TZOFFSETFROM:+0100
TZOFFSETTO:+0200
TZNAME:CEST
DTSTART:20240331T010000
END:DAYLIGHT
BEGIN:STANDARD
TZOFFSETFROM:+0200
TZOFFSETTO:+0100
TZNAME:CET
DTSTART:20241027T010000
END:STANDARD
BEGIN:DAYLIGHT
TZOFFSETFROM:+0100
TZOFFSETTO:+0200
TZNAME:CEST
DTSTART:20250330T010000
END:DAYLIGHT
BEGIN:STANDARD
TZOFFSETFROM:+0200
TZOFFSETTO:+0100
TZNAME:CET
DTSTART:20251026T010000
END:STANDARD
BEGIN:DAYLIGHT
TZOFFSETFROM:+0100
TZOFFSETTO:+0200
TZNAME:CEST
DTSTART:20260329T010000
END:DAYLIGHT
BEGIN:STANDARD
TZOFFSETFROM:+0200
TZOFFSETTO:+0100
TZNAME:CET
DTSTART:20261025T010000
END:STANDARD
BEGIN:DAYLIGHT
TZOFFSETFROM:+0100
TZOFFSETTO:+0200
TZNAME:CEST
DTSTART:20270328T010000
END:DAYLIGHT
BEGIN:STANDARD
TZOFFSETFROM:+0200
TZOFFSETTO:+0100
TZNAME:CET
DTSTART:20271031T010000
END:STANDARD
END:VTIMEZONE
BEGIN:VEVENT
DTSTART;TZID=Europe/Berlin:20260301T200000
DTEND;TZID=Europe/Berlin:20260301T220000
DTSTAMP:20260419T165635
CREATED:20260121T115313Z
LAST-MODIFIED:20260130T120939Z
UID:10000034-1772395200-1772402400@oberallgaeuer-kleinkunstbuehne.goldeneskreuz.de
SUMMARY:Erbse
DESCRIPTION:Erbse\n„Liederliches“\nWer heute mit Klettern anfängt findet um die Ecke die nächste Halle – vermutlich ohne sich größere Gedanken darüber zu machen\, wo das alles herkommt. \n„Erbse“ Köpf\, seit 30 Jahren Comiczeichner der Kletterszene\, schlägt einen Bogen vom Ursprung des Kletterns als Bergsteige-Technik über die Entwicklung zum Sportklettern bis hin zum modernen Bouldern.\nEin rund zweistündiges Programm\, das die Entwicklung des modernen Kletterns mit persönlich Biografischem humorvoll verwebt und in einen gesamtgesellschaftlichen Kontext setzt. \nErbse liefert einen anregenden Abend in selbst ironischer Leichtigkeit bei gleichzeitigem Tiefgang\, unterlegt mit satirischen Zeichnungen und Liedern\, der in Erinnerung bleibt. \nhttps://klettercomics.de/ \nIn Zusammenarbeit mit der DAV Sektion Allgäu-Immenstadt \n 
URL:https://oberallgaeuer-kleinkunstbuehne.goldeneskreuz.de/veranstaltung/erbse/
LOCATION:Berggasthof Goldenes Kreuz\, Talstraße 41\, Gunzesried\, Bayern\, 87544\, Deutschland
CATEGORIES:Comedy,Goldenes Kreuz,Kabarett,Kleinkunstbühne,Musik
ATTACH;FMTTYPE=image/jpeg:https://oberallgaeuer-kleinkunstbuehne.goldeneskreuz.de/wp-content/uploads/sites/8/2026/01/Liederliches_Plakatmotiv-scaled.jpg
ORGANIZER;CN="Oberallg%C3%A4uer Kleinkunstb%C3%BChne e.V.":MAILTO:okb@goldeneskreuz.de
END:VEVENT
BEGIN:VEVENT
DTSTART;TZID=Europe/Berlin:20251115T200000
DTEND;TZID=Europe/Berlin:20251115T220000
DTSTAMP:20260419T165635
CREATED:20250225T094032Z
LAST-MODIFIED:20250311T121928Z
UID:10000032-1763236800-1763244000@oberallgaeuer-kleinkunstbuehne.goldeneskreuz.de
SUMMARY:Faltsch Wagoni
DESCRIPTION:Faltsch Wagoni\nDie letzten Ironesen\nSongs und Wortkunst\nFaltsch Wagoni sind Zweifler vom Feinsten – keine Verzweifler. Sie blicken auf das „Land des Schwächelns“ mit selbstironischer Skepsis und heiterer Zuversicht gleichzeitig. Sie glauben nicht an die eine fälschungssichere Wahrheit. Silvana Prosperi (Perkussion\, Gesang) und Thomas Prosperi (Gitarre\, Gesang) präsentieren wunderbar wortwitzige Songs\, Gedichte und Dialoge zum Zustand der „Zustände“. Sie glauben daran\, dass es möglich ist\, eine kritische Weltsicht zu haben\, ohne in dumpfe\, bräsige\, jammerige\, hasserfüllte Besserwisserei zu verfallen. Ihr Leitmotiv: Immer schön rebellisch bleiben – aber mit Stil. \n 
URL:https://oberallgaeuer-kleinkunstbuehne.goldeneskreuz.de/veranstaltung/faltsch-wagoni/
LOCATION:Berggasthof Goldenes Kreuz\, Talstraße 41\, Gunzesried\, Bayern\, 87544\, Deutschland
CATEGORIES:Goldenes Kreuz,Jazz,Kabarett,Kleinkunstbühne,Musik,Rock-Pop-Blues
ATTACH;FMTTYPE=image/gif:https://oberallgaeuer-kleinkunstbuehne.goldeneskreuz.de/wp-content/uploads/sites/8/2025/02/FotoJoerg-Reuther-002.gif
ORGANIZER;CN="Oberallg%C3%A4uer Kleinkunstb%C3%BChne e.V.":MAILTO:okb@goldeneskreuz.de
END:VEVENT
BEGIN:VEVENT
DTSTART;TZID=Europe/Berlin:20251012T150000
DTEND;TZID=Europe/Berlin:20251012T160000
DTSTAMP:20260419T165635
CREATED:20250225T090129Z
LAST-MODIFIED:20250311T121739Z
UID:10000031-1760281200-1760284800@oberallgaeuer-kleinkunstbuehne.goldeneskreuz.de
SUMMARY:Zirkus Dralladoni
DESCRIPTION:Zirkus Dralladoni\nDie große Tierschau\nTheater Figuren & Hände (Günter Fortmeier)\nIm Zirkus Dralladoni kann man dressierte Nilpferde\, Krokodile\, Hunde\, Enten\, Gänse und sogar Fische bewundern. Aber weil echte Tiere zu viel Dreck machen\, zaubert sich Direktor Dralladoni seine Tiernummern kurzerhand als Schattenspiele auf die Zirkusleinwand. Sein Sohn\, der kleine Rudi\, möchte aber einen richtigen Zirkus mit echten Tieren haben und schleust deshalb einen Straßenköter namens Würstchen und Rosali\, die Zylinderhäsin\, in die Vorstellung ein.\nEine abwechslungsreiche Zirkus-Theater-Show mit einem Mix aus Puppentheater\, Schattenspiel und Zauberei für Jung und Alt ab 4 Jahren. \n 
URL:https://oberallgaeuer-kleinkunstbuehne.goldeneskreuz.de/veranstaltung/zirkus-dralladoni/
LOCATION:Berggasthof Goldenes Kreuz\, Talstraße 41\, Gunzesried\, Bayern\, 87544\, Deutschland
CATEGORIES:Comedy,Goldenes Kreuz,Kindervorstellung,Kleinkunstbühne,Varieté,Zauberkunst
ATTACH;FMTTYPE=image/jpeg:https://oberallgaeuer-kleinkunstbuehne.goldeneskreuz.de/wp-content/uploads/sites/8/2025/02/Fortmeier-hp.jpg
ORGANIZER;CN="Oberallg%C3%A4uer Kleinkunstb%C3%BChne e.V.":MAILTO:okb@goldeneskreuz.de
END:VEVENT
BEGIN:VEVENT
DTSTART;TZID=Europe/Berlin:20251011T200000
DTEND;TZID=Europe/Berlin:20251011T220000
DTSTAMP:20260419T165635
CREATED:20250219T173204Z
LAST-MODIFIED:20250228T092159Z
UID:10000030-1760212800-1760220000@oberallgaeuer-kleinkunstbuehne.goldeneskreuz.de
SUMMARY:Günter Fortmeier
DESCRIPTION:Günter Fortmeier\nEcht sauber!\nSchwarzer Humor\, der sich gewaschen hat. \nVon und mit Günter Fortmeier\nDer Gewinner des Kleinkunstpreises Baden-Württemberg 2016 \, gastiert mit seinem aktuellem Programm.\nEr begeistert nicht nur mit seinem komödiantischen Talent und seiner Fähigkeit zur Improvisation als Puppenspieler und Bauchredner\, sondern fasziniert auch mit der in Deutschland selten zu erlebenden Kunst des Schattenspiels.\nSeiner Schattenwelt scheinen keine Grenzen gesetzt. Er lässt Comic-Figuren entstehen\, erzählt kleine\, groteske Geschichten mit Hunden\, fliegenden Schwänen und Fischen\, die vom Krokodil gefressen werden.\nWas so leichthandlich daherkommt und wie aus einem Zeichentrickfilm entnommen scheint\, ist nur durch jahrelanges Training möglich.\nWährend seines Pantomimen- und Schauspielstudiums an der Folkwanghochschule in Essen\nentwickelte er sein einzigartiges Theater mit Händen.\nAuf Festivals und Gastspielen in ganz Europa ist er ein gern gesehener Gast.\nDurch eine intensive Begegnung mit dem Berühmten indischen Schattenspieler Prasana Rau verfeinerte er sein Hand-Schatten-Spiel und fühlt sich bis heute dieser Tradition verbunden. \nwww.hands-up-comedy.de
URL:https://oberallgaeuer-kleinkunstbuehne.goldeneskreuz.de/veranstaltung/guenter-fortmeier/
LOCATION:Berggasthof Goldenes Kreuz\, Talstraße 41\, Gunzesried\, Bayern\, 87544\, Deutschland
CATEGORIES:Comedy,Goldenes Kreuz,Kabarett,Kleinkunstbühne,Musik,Varieté,Zauberkunst
ATTACH;FMTTYPE=image/jpeg:https://oberallgaeuer-kleinkunstbuehne.goldeneskreuz.de/wp-content/uploads/sites/8/2025/02/Fortmeier-Abend-hp.jpg
ORGANIZER;CN="Oberallg%C3%A4uer Kleinkunstb%C3%BChne e.V.":MAILTO:okb@goldeneskreuz.de
END:VEVENT
BEGIN:VEVENT
DTSTART;TZID=Europe/Berlin:20250628T200000
DTEND;TZID=Europe/Berlin:20250628T220000
DTSTAMP:20260419T165635
CREATED:20250219T162527Z
LAST-MODIFIED:20250228T092043Z
UID:10000029-1751140800-1751148000@oberallgaeuer-kleinkunstbuehne.goldeneskreuz.de
SUMMARY:KLEPPER DUO & Michaela
DESCRIPTION:KLEPPER DUO & Michaela\nMusikalische Weltreise\nDas KlepperDuo mit Michaela Schmid \nDie Musik von und mit den Brüdern\nMartin Klepper an der Geige\, Markus Klepper am Akkordeon\nund seit kurzem erweitert durch Michaela Schmid am Cello\,\ngeleitet die Zuhörer auf eine musikalische Reise durch Kontinente.\nEs erklingt Weltmusik á la Klezmer\, Tango und Balkanmusik\naus eigener Feder. Mal feurig-virtuos\, mal nachdenklich-gefühlvoll.\nAuch der Walzer darf nicht fehlen. \nHöhepunkte der letzten Jahre waren Konzerte u.a. im Rahmen\nder Opern-Festspielnacht der Hypobank\, München\, dem Studiokonzert\nbei Cavalli-Records\, Bamberg\, dem Septemberfest der\nBayerischen Staatsoper 2024…
URL:https://oberallgaeuer-kleinkunstbuehne.goldeneskreuz.de/veranstaltung/klepper-duo-michaela/
LOCATION:Berggasthof Goldenes Kreuz\, Talstraße 41\, Gunzesried\, Bayern\, 87544\, Deutschland
CATEGORIES:Folk,Goldenes Kreuz,Jazz,Klassik,Kleinkunstbühne,Musik,Rock-Pop-Blues
ATTACH;FMTTYPE=image/jpeg:https://oberallgaeuer-kleinkunstbuehne.goldeneskreuz.de/wp-content/uploads/sites/8/2025/02/KlepperDuo-mit-Michaelahp.jpg
ORGANIZER;CN="Oberallg%C3%A4uer Kleinkunstb%C3%BChne e.V.":MAILTO:okb@goldeneskreuz.de
END:VEVENT
BEGIN:VEVENT
DTSTART;TZID=Europe/Berlin:20250518T200000
DTEND;TZID=Europe/Berlin:20250518T220000
DTSTAMP:20260419T165635
CREATED:20250201T195703Z
LAST-MODIFIED:20250219T171637Z
UID:10000027-1747598400-1747605600@oberallgaeuer-kleinkunstbuehne.goldeneskreuz.de
SUMMARY:Matthias Gietl
DESCRIPTION:Matthias Gietl\nLiebe\, Sex und Einsamkeit\nEin Spaziergang durch die Welt der Sehnsucht und ihrer Tücken. Matthias Gietl erzählt von den Liebschaften eines Mannes unter Vierzig\, plaudert aus dem Nähkästchen seiner Eroberungen und Enttäuschungen\, begleitet von echter Magie. Dazu wird – wie in der Liebe üblich – jongliert\, mit Einsichten\, Keulen und Poesie. Manch lang gehegtes Rätsel erhält seinen Trost\, auch ohne Lösung\, manch geheime Freude wird öffentlich. Von Sex und von Märchen\, von Liebe und Obst\, von der Einsamkeit des Zauberers – Matthias Gietl präsentiert einen Abend der Überraschungen\, der Heiterkeit und des besseren Liebens. \nEine Wortrevue mit Texten von Friedhelm Kändler u.a. \nMatthias Gietl
URL:https://oberallgaeuer-kleinkunstbuehne.goldeneskreuz.de/veranstaltung/matthias-gietl/
LOCATION:Berggasthof Goldenes Kreuz\, Talstraße 41\, Gunzesried\, Bayern\, 87544\, Deutschland
CATEGORIES:Comedy,Goldenes Kreuz,Kabarett,Kleinkunstbühne,Varieté,Zauberkunst
ATTACH;FMTTYPE=image/jpeg:https://oberallgaeuer-kleinkunstbuehne.goldeneskreuz.de/wp-content/uploads/sites/8/2025/02/Matthias-Gietl.jpg
ORGANIZER;CN="Oberallg%C3%A4uer Kleinkunstb%C3%BChne e.V.":MAILTO:okb@goldeneskreuz.de
END:VEVENT
BEGIN:VEVENT
DTSTART;TZID=Europe/Berlin:20250412T200000
DTEND;TZID=Europe/Berlin:20250412T220000
DTSTAMP:20260419T165635
CREATED:20250202T122512Z
LAST-MODIFIED:20250219T171726Z
UID:10000028-1744488000-1744495200@oberallgaeuer-kleinkunstbuehne.goldeneskreuz.de
SUMMARY:Alexandra Stiglmeier
DESCRIPTION:Alexandra Stiglmeier\nSturmfreie Bude\nEndlich mal wieder so richtig herzhaft Lachen. \nWenn Alexandra Stiglmeier\, vom ganz „normalen Familienwahnsinn“ erzählt\, bleibt kein Auge trocken. Die bayrische Kabarettistin\, Autorin und begnadete Theaterspielerin reflektiert gern die Schwächen beider Geschlechter und nimmt dabei den ganz normalen Alltag auf die Schippe. Denn wenn sich die Ehemänner in der Stube „rumbelzen“\, und ihr geliebtes Sofa vollbröseln\, die Kinder einem den Schlaf rauben und sich außerdem in der guten Stube noch andere Stubenhocker breitmachen\, hilft kein jammern mehr. Da muss gehandelt werden! Also Schluss mit „ Hotel Mama“! Nur\, wie fegt man diese Bagage allesamt aus der Stube? Ob bei den Kindern aushungern hilft? Mmmh…. Und wohin aber dann mit dem Mann? \nWie gut\, dass die Stiglmeier mit raffiniert ausgedachten Kostümen\, und verschiedenen Dialekten ruck zuck\, in verschiedenste Charaktere schlüpfen kann. \n„Sturmfeie Bude“ verspricht einen kurzweiligen und unterhaltsamen Abend \nAlexandra Stiglmeier
URL:https://oberallgaeuer-kleinkunstbuehne.goldeneskreuz.de/veranstaltung/alexandra-stiglmeier/
LOCATION:Berggasthof Goldenes Kreuz\, Talstraße 41\, Gunzesried\, Bayern\, 87544\, Deutschland
CATEGORIES:Comedy,Goldenes Kreuz,Kabarett,Kleinkunstbühne
ATTACH;FMTTYPE=image/jpeg:https://oberallgaeuer-kleinkunstbuehne.goldeneskreuz.de/wp-content/uploads/sites/8/2025/02/Foto-m.-Staubsauger_quer.jpg
ORGANIZER;CN="Oberallg%C3%A4uer Kleinkunstb%C3%BChne e.V.":MAILTO:okb@goldeneskreuz.de
END:VEVENT
BEGIN:VEVENT
DTSTART;TZID=Europe/Berlin:20241019T200000
DTEND;TZID=Europe/Berlin:20241019T220000
DTSTAMP:20260419T165635
CREATED:20240213T090932Z
LAST-MODIFIED:20241018T143956Z
UID:10000017-1729368000-1729375200@oberallgaeuer-kleinkunstbuehne.goldeneskreuz.de
SUMMARY:4Bitte - Ausverkauft
DESCRIPTION:4Bitte\nVier Allgäuer Vollblutmusiker\, Achim Rinderle ( Saxophone\, Klarinetten )\, Stefan Kienle ( Piano\, Mundharmonika )\, Pit Gogl ( Schlagwerk )\, Benno Wechs ( Harmonika\, Kontrabass ) bieten Grooviges\, Funkiges\, Jazziges\, Klassisches\, Weltmusik aus Ihrer eigenen Feder. Musik die aus dem Bauch kommt\, die nicht vergleichbar ist\, aber jeden anspricht und bestens unterhält…….“4Bitte“ ! Dem Publikum wird beste Musik aus allen Richtungen der vier Künstler geboten. Weicher Jazz gemischt mit klassischen Melodien\, feuriger Rhythmus vom Balkan bis zu heimatlichen Melodien\, wie 7/8-taktige Schottische\, authentisch\, mit viel Gefühl oder pfiffig. 4Bitte bieten dank ihrer Vielseitigkeit einen besonderen Hörgenuss\, der die Seele berührt oder auch in die Beine geht.
URL:https://oberallgaeuer-kleinkunstbuehne.goldeneskreuz.de/veranstaltung/4bitte/
LOCATION:Berggasthof Goldenes Kreuz\, Talstraße 41\, Gunzesried\, Bayern\, 87544\, Deutschland
ATTACH;FMTTYPE=image/jpeg:https://oberallgaeuer-kleinkunstbuehne.goldeneskreuz.de/wp-content/uploads/sites/8/2024/02/4bitte_Tisch-001-m.jpg
ORGANIZER;CN="Oberallg%C3%A4uer Kleinkunstb%C3%BChne e.V.":MAILTO:okb@goldeneskreuz.de
END:VEVENT
END:VCALENDAR